BEGIN:VCALENDAR
VERSION:2.0
PRODID:-//ChamberMaster//Event Calendar 2.0//EN
METHOD:PUBLISH
X-PUBLISHED-TTL:P3D
REFRESH-INTERVAL:P3D
CALSCALE:GREGORIAN
BEGIN:VEVENT
DTSTART:20220219T023000Z
DTEND:20220219T043000Z
X-MICROSOFT-CDO-ALLDAYEVENT:FALSE
SUMMARY:Storm Large
DESCRIPTION:The sublime (slightly subversive) Storm Large returns to Chandler for a truly unforgettable night. Weaving together songs born of French cabaret\, jazz standards and a handful of originals\, she creates her own singular interpretations. The result is beautiful and familiar\, yet a bit twisted - much like the lady herself. * This show is recommended for mature audiences.
X-ALT-DESC;FMTTYPE=text/html:The sublime (slightly subversive) Storm Large returns to Chandler for a truly unforgettable night. Weaving together songs born of French cabaret\, jazz standards and a handful of originals\, she creates her own singular interpretations. The result is beautiful and familiar\, yet a bit twisted - much like the lady herself. * This show is recommended for mature audiences.
LOCATION:Chandler Center for the Arts 250 N. Arizona Avenue Chandler\, AZ 85225
UID:e.1561.40096
SEQUENCE:3
DTSTAMP:20260423T232829Z
URL:https://business.chandlerchamber.com/events/details/storm-large-40096
END:VEVENT

END:VCALENDAR
