BEGIN:VCALENDAR
VERSION:2.0
PRODID:-//ChamberMaster//Event Calendar 2.0//EN
METHOD:PUBLISH
X-PUBLISHED-TTL:P3D
REFRESH-INTERVAL:P3D
CALSCALE:GREGORIAN
BEGIN:VEVENT
DTSTART:20180531T010000Z
DTEND:20180531T025000Z
X-MICROSOFT-CDO-ALLDAYEVENT:FALSE
SUMMARY:Strategic Planning for Business Success
DESCRIPTION:You will learn the difference between a Strategic Plan and a Business Plan. How an effective strategic plan can be used as a road map to achieve business goals. How strategic planning is a critical process that lays the foundation for all other planning in order to achieve growth and profitability.
X-ALT-DESC;FMTTYPE=text/html:You will learn the difference between a Strategic Plan and a Business Plan. How an effective strategic plan can be used as a road map to achieve business goals. How strategic planning is a critical process that lays the foundation for all other planning in order to achieve growth and profitability.
LOCATION:Tempe Public Library (BRiC) 3500 South Rural Road Tempe\, AZ\, 85282
UID:e.1561.33669
SEQUENCE:3
DTSTAMP:20260423T180943Z
URL:https://business.chandlerchamber.com/events/details/strategic-planning-for-business-success-33669
END:VEVENT

END:VCALENDAR
