BEGIN:VCALENDAR
VERSION:2.0
PRODID:-//ChamberMaster//Event Calendar 2.0//EN
METHOD:PUBLISH
X-PUBLISHED-TTL:P3D
REFRESH-INTERVAL:P3D
CALSCALE:GREGORIAN
BEGIN:VEVENT
DTSTART:20180207T010000Z
DTEND:20180207T030000Z
X-MICROSOFT-CDO-ALLDAYEVENT:FALSE
SUMMARY:Strategic Planning Process to Energize Your Business
DESCRIPTION:Ray Madaghiele will teach the art & science of facilitating an inspiring strategic planning process for businesses. Participants will be guided to determine the best way to proceed with their own custom-designed strategic planning process for their unique organization. He will reveal his personal secrets\, tools\, & tips.
X-ALT-DESC;FMTTYPE=text/html:Ray Madaghiele will teach the art &amp\; science of facilitating an inspiring strategic planning process for businesses. Participants will be guided to determine the best way to proceed with their own custom-designed strategic planning process for their unique organization. He will reveal his personal secrets\, tools\, &amp\; tips.
LOCATION:Workuity 2390 E. Camelback Road Suite 130 Phoenix\, AZ 85016
UID:e.1561.20913
SEQUENCE:3
DTSTAMP:20260423T215823Z
URL:https://business.chandlerchamber.com/events/details/strategic-planning-process-to-energize-your-business-20913
END:VEVENT

END:VCALENDAR
