BEGIN:VCALENDAR
VERSION:2.0
PRODID:-//ChamberMaster//Event Calendar 2.0//EN
METHOD:PUBLISH
X-PUBLISHED-TTL:P3D
REFRESH-INTERVAL:P3D
CALSCALE:GREGORIAN
BEGIN:VEVENT
DTSTART:20210422T170000Z
DTEND:20210422T180000Z
X-MICROSOFT-CDO-ALLDAYEVENT:FALSE
SUMMARY:Strategy for Success Webinar- April 22\, 2021
DESCRIPTION:Join us for a weekly Business Power Hour\, where we will be joined by guest speakers each week\, providing strategies for business success. \n\n\n\nInstagram 101: From Creation to Analytics\n\n\n\nWith over 130 million monthly Instagram users in the United States\, it's important to utilize this social media platform to its fullest potential. In this webinar you will learn all aspects of Instagram including ideation\, post creation\, scheduling\, reading your analytics\, and how to convert your followers into customers.\n\n\n\nFeatured Presenter: Christian Weninger\n\n\n\n\n\n\n\n\n\nBrought to you in part by: Industrial Development of the City of Chandler
X-ALT-DESC;FMTTYPE=text/html:Join us for a weekly <strong>Business Power Hour</strong>\, where we will be joined by guest speakers each week\, providing strategies for business success.&nbsp\;<br />\n<br />\n<span style="font-size:18px\;"><strong>Instagram 101: From Creation to Analytics</strong></span><br />\n<br />\n<span font-size:="" style="color: rgb(0\, 0\, 0)\; font-family: " trebuchet="" white-space:="">With over 130 million monthly Instagram users in the United States\, it&#39\;s important to utilize this social media platform to its fullest potential. In this webinar you will learn all aspects of Instagram including ideation\, post creation\, scheduling\, reading your analytics\, and how to convert your followers into customers.</span><br />\n<br />\n<span style="font-size:16px\;"><strong>Featured Presenter: Christian Weninger</strong></span><br />\n<br />\n<br />\n<br />\n<br />\n<em>Brought to you in part by: Industrial Development of the City of Chandler</em><br />\n&nbsp\;
LOCATION:Virtual- Held on ZOOM
UID:e.1561.39676
SEQUENCE:3
DTSTAMP:20260424T225343Z
URL:https://business.chandlerchamber.com/events/details/strategy-for-success-webinar-april-22-2021-39676
END:VEVENT

END:VCALENDAR
