BEGIN:VCALENDAR
VERSION:2.0
PRODID:-//ChamberMaster//Event Calendar 2.0//EN
METHOD:PUBLISH
X-PUBLISHED-TTL:P3D
REFRESH-INTERVAL:P3D
CALSCALE:GREGORIAN
BEGIN:VEVENT
DTSTART:20210610T170000Z
DTEND:20210610T180000Z
X-MICROSOFT-CDO-ALLDAYEVENT:FALSE
SUMMARY:Strategy for Success Webinar- June 10\, 2021
DESCRIPTION:Join us for a weekly Business Power Hour\, where we will be joined by guest speakers each week\, providing strategies for business success. \n\n\n\nErgonomics in Your Workspace\n\n \nThis engaging workshop will focus on improving the postures our bodies are put in during the workday both caused by both prolonged sitting and physical labor. Corporate fitness and ergonomics specialist Drew Saenz will educate and coach you through postures and movements that will improve your physical wellbeing and prevent injury/fatigue. You will also walk away with a clear picture of how often you need to stand throughout the day and the movements that help prevent head\, neck\, and low back pain. \n\n\n\n\nPresenter: Drew Saenz\, Founding Director- Team Up Wellness \n\n\n\n\n\nBrought to you in part by: Industrial Development of the City of Chandler
X-ALT-DESC;FMTTYPE=text/html:<span style="font-size: 16px\;">Join us for a weekly&nbsp\;<strong>Business Power Hour</strong>\, where we will be joined by guest speakers each week\, providing strategies for business success.&nbsp\;</span><br />\n<br />\n<span style="font-size: 18px\;"><strong><span style="font-family: verdana\, sans-serif\;">Ergonomics in Your Workspace</span></strong></span><br />\n&nbsp\;\n<p style="margin:0in\;margin-bottom:.0001pt"><span style="font-size:16px\;"><span style="font-family:&quot\;Calibri&quot\;\,sans-serif\;\ncolor:black">This engaging workshop will focus on improving the postures our bodies are put in during the workday both caused by both prolonged sitting and physical labor. Corporate fitness and ergonomics specialist Drew Saenz will educate and coach you through postures and movements that will improve your physical wellbeing and prevent injury/fatigue. You will also walk away with a clear picture of how often you need to stand throughout the day and the movements that help prevent head\, neck\, and low back pain.&nbsp\;</span></span><o:p></o:p></p>\n<br />\n<br />\n<span style="font-size: 16px\;"><span style="font-family: verdana\, sans-serif\;"><u><strong>Presenter:</strong></u>&nbsp\;Drew Saenz\, Founding Director- Team Up Wellness&nbsp\;</span></span><br />\n<br />\n<br />\n<em>Brought to you in part by: Industrial Development of the City of Chandler</em><br />\n&nbsp\;
LOCATION:Virtual- Held on ZOOM
UID:e.1561.39950
SEQUENCE:3
DTSTAMP:20260424T134608Z
URL:https://business.chandlerchamber.com/events/details/strategy-for-success-webinar-june-10-2021-39950
END:VEVENT

END:VCALENDAR
