BEGIN:VCALENDAR
VERSION:2.0
PRODID:-//ChamberMaster//Event Calendar 2.0//EN
METHOD:PUBLISH
X-PUBLISHED-TTL:P3D
REFRESH-INTERVAL:P3D
CALSCALE:GREGORIAN
BEGIN:VEVENT
DTSTART:20210304T170000Z
DTEND:20210304T180000Z
X-MICROSOFT-CDO-ALLDAYEVENT:FALSE
SUMMARY:Strategy for Success Webinar- March 4\, 2021
DESCRIPTION:Join us for a weekly Business Power Hour\, where we will be joined by guest speakers each week\, providing strategies for business success. \n\n\n\nShut Up and Shoot with J2 Media\n\n\n\nNo question about it\, video is the superstar of business.  Join the J2 Media team for peek behind the scenes along with tips on how to put video to work for you.\n\n\n\nFeatured Presenters: Jane Poston\, Jason Heinkel\, Sabrina Bryant- J2 Media\n\n\n\n\n\nBrought to you in part by: Industrial Development of the City of Chandler
X-ALT-DESC;FMTTYPE=text/html:Join us for a weekly <strong>Business Power Hour</strong>\, where we will be joined by guest speakers each week\, providing strategies for business success.&nbsp\;<br />\n<br />\n<strong><span style="font-size:18px\;">Shut Up and Shoot with J2 Media</span></strong><br />\n<br />\n<em>No question about it\, video is the superstar of business. &nbsp\;Join the J2 Media team for peek behind the scenes along with tips on how to put video to work for you</em>.<br />\n<br />\n<strong>Featured Presenters:&nbsp\;Jane Poston\, Jason Heinkel\, Sabrina Bryant- J2 Media</strong><br />\n<br />\n<br />\n<em>Brought to you in part by: Industrial Development of the City of Chandler</em><br />\n&nbsp\;
LOCATION:Virtual- Held on ZOOM
UID:e.1561.39638
SEQUENCE:3
DTSTAMP:20260425T002445Z
URL:https://business.chandlerchamber.com/events/details/strategy-for-success-webinar-march-4-2021-39638
END:VEVENT

END:VCALENDAR
