BEGIN:VCALENDAR
VERSION:2.0
PRODID:-//ChamberMaster//Event Calendar 2.0//EN
METHOD:PUBLISH
X-PUBLISHED-TTL:P3D
REFRESH-INTERVAL:P3D
CALSCALE:GREGORIAN
BEGIN:VEVENT
DTSTART;VALUE=DATE:20221126
DTEND;VALUE=DATE:20230103
TRANSP:TRANSPARENT
X-MICROSOFT-CDO-ALLDAYEVENT:TRUE
SUMMARY:SUGARLAND- Downtown Chandler Holiday Event
DESCRIPTION:Downtown Chandler's free interactive display "Sugarland" will fill you with holiday cheer. A slide for children to play on and life-sized candy and cocoa offer some fun photo ops for your holiday cards. Make sure to stop by at night as well\, so you can take in the beautiful display of lights.
X-ALT-DESC;FMTTYPE=text/html:<span id="docs-internal-guid-1c4e0682-7fff-6cdd-7b45-0f002158239a"><span style="font-size: 11pt\; font-family: Arial\; color: rgb(0\, 0\, 0)\; background-color: transparent\; font-variant-numeric: normal\; font-variant-east-asian: normal\; vertical-align: baseline\; white-space: pre-wrap\;">Downtown Chandler&rsquo\;s free interactive display &quot\;</span><a href="https://downtownchandler.org/events/sugarland" style="text-decoration-line: none\;"><span style="font-size: 11pt\; font-family: Arial\; color: rgb(17\, 85\, 204)\; background-color: transparent\; font-variant-numeric: normal\; font-variant-east-asian: normal\; text-decoration-line: underline\; text-decoration-skip-ink: none\; vertical-align: baseline\; white-space: pre-wrap\;">Sugarland</span></a><span style="font-size: 11pt\; font-family: Arial\; color: rgb(0\, 0\, 0)\; background-color: transparent\; font-variant-numeric: normal\; font-variant-east-asian: normal\; vertical-align: baseline\; white-space: pre-wrap\;">&quot\; will fill you with holiday cheer. A slide for children to play on and life-sized candy and cocoa offer some fun photo ops for your holiday cards. Make sure to stop by at night as well\, so you can take in the beautiful display of lights.</span></span>
LOCATION:Dr. A.J. Chandler Park West
UID:e.1561.44374
SEQUENCE:3
DTSTAMP:20260420T220143Z
URL:https://business.chandlerchamber.com/events/details/sugarland-downtown-chandler-holiday-event-44374
END:VEVENT

END:VCALENDAR
