BEGIN:VCALENDAR
VERSION:2.0
PRODID:-//ChamberMaster//Event Calendar 2.0//EN
METHOD:PUBLISH
X-PUBLISHED-TTL:P3D
REFRESH-INTERVAL:P3D
CALSCALE:GREGORIAN
BEGIN:VEVENT
DTSTART:20171111T000000Z
DTEND:20171111T023000Z
X-MICROSOFT-CDO-ALLDAYEVENT:FALSE
SUMMARY:Sunset Dinner at the Ranch
DESCRIPTION:Join the Pardners of Tumbleweed Ranch for a sunset dinner to support their mission to educate the community about Chandler's agricultural heritage through programs and events\, while enhancing the amenities at Tumbleweed Ranch. This unique outdoor eating experience on the Ranch is Friday\, November 10\, 5 7:30 p.m.\, complete with an 8 oz. top sirloin\, salad\, bread\, potato and dessert\, created by Chandler restaurant Ginger Monkey. With entertainment from singer Tony Martinez\, as well as local beer and wine to purchase\, this is the perfect date night with a cause. Afterward\, enjoy a cozy campfire and listen to Chip Hanna as Friday festivities for the 8th Annual Chuck Wagon Cook-Off wind down and participants ready their wagons for the competition on Saturday. Tickets are $40\, plus a processing fee. To purchase tickets\, visit pardnersoftumbleweedranch.org
X-ALT-DESC;FMTTYPE=text/html:Join the Pardners of Tumbleweed Ranch for a sunset dinner to support their mission to educate the community about Chandler&rsquo\;s agricultural heritage through programs and events\, while enhancing the amenities at Tumbleweed Ranch. This unique outdoor eating experience on the Ranch is Friday\, November 10\, 5&ndash\;7:30 p.m.\, complete with an 8 oz. top sirloin\, salad\, bread\, potato and dessert\, created by Chandler restaurant Ginger Monkey. With entertainment from singer Tony Martinez\, as well as local beer and wine to purchase\, this is the perfect date night with a cause. Afterward\, enjoy a cozy campfire and listen to Chip Hanna as Friday festivities for the 8th Annual Chuck Wagon Cook-Off wind down and participants ready their wagons for the competition on Saturday. Tickets are $40\, plus a processing fee. To purchase tickets\, visit pardnersoftumbleweedranch.org
LOCATION:Tumbleweed Ranch at Tumbleweed Park 2250 S. McQueen Rd. Chandler\, AZ 85286
UID:e.1561.19164
SEQUENCE:3
DTSTAMP:20260424T021932Z
URL:https://business.chandlerchamber.com/events/details/sunset-dinner-at-the-ranch-19164
END:VEVENT

END:VCALENDAR
