BEGIN:VCALENDAR
VERSION:2.0
PRODID:-//ChamberMaster//Event Calendar 2.0//EN
METHOD:PUBLISH
X-PUBLISHED-TTL:P3D
REFRESH-INTERVAL:P3D
CALSCALE:GREGORIAN
BEGIN:VEVENT
DTSTART:20171105T230000Z
DTEND:20171106T030000Z
X-MICROSOFT-CDO-ALLDAYEVENT:FALSE
SUMMARY:Sunset Showdown
DESCRIPTION:The Assistance League of East Valley invites you to attend their fall fundraiser. Join us for an evening of fun\, games and great food.
X-ALT-DESC;FMTTYPE=text/html:The Assistance League of East Valley invites you to attend their fall fundraiser. Join us for an evening of fun\, games and great food.
LOCATION:Rustler's Roost 8383 S 48th St. Phoenix\, AZ 85044
UID:e.1561.19200
SEQUENCE:3
DTSTAMP:20260424T021828Z
URL:https://business.chandlerchamber.com/events/details/sunset-showdown-19200
END:VEVENT

END:VCALENDAR
