BEGIN:VCALENDAR
VERSION:2.0
PRODID:-//ChamberMaster//Event Calendar 2.0//EN
METHOD:PUBLISH
X-PUBLISHED-TTL:P3D
REFRESH-INTERVAL:P3D
CALSCALE:GREGORIAN
BEGIN:VEVENT
DTSTART:20251114T010000Z
DTEND:20251114T014500Z
X-MICROSOFT-CDO-ALLDAYEVENT:FALSE
SUMMARY:Sunset Yoga
DESCRIPTION:Join us for a refreshing all-levels yoga session in the heart of downtown Chandler! Whether you're a beginner or a seasoned yogi\, come stretch\, breathe\, and connect with your community. Bring your mat\, some water\, and a friend   everyone's welcome!
X-ALT-DESC;FMTTYPE=text/html:<span style="color:#000000\;"><span style="font-size:16px\;"><span style="font-family:arial\;">Join us for a refreshing all-levels yoga session in the heart of downtown Chandler! Whether you&#39\;re a beginner or a seasoned yogi\, come stretch\, breathe\, and connect with your community. Bring your mat\, some water\, and a friend &mdash\; everyone&rsquo\;s welcome!&nbsp\;</span></span></span>
LOCATION:Crust Lawn
UID:e.1561.51917
SEQUENCE:3
DTSTAMP:20260424T063630Z
URL:https://business.chandlerchamber.com/events/details/sunset-yoga-51917
END:VEVENT

END:VCALENDAR
