BEGIN:VCALENDAR
VERSION:2.0
PRODID:-//ChamberMaster//Event Calendar 2.0//EN
METHOD:PUBLISH
X-PUBLISHED-TTL:P3D
REFRESH-INTERVAL:P3D
CALSCALE:GREGORIAN
BEGIN:VEVENT
DTSTART:20170704T010000Z
DTEND:20170902T030000Z
X-MICROSOFT-CDO-ALLDAYEVENT:FALSE
SUMMARY:Take It Outside
DESCRIPTION:Group Training - An all levels foundation & form building program designed to increase strength\, endurance\, balance\, & stability utilizing body weight\; four key elements needed for overall health & well-being. Exercise mat or towel is highly recommended. Hydration is a must bring more than 16.9 oz. of water. Yoga -A yoga class to prepare the body for deep relaxation and restful sleep\; we begin with a gentle flow\, then move into a sequence of balance and floor poses with twists\, bends\, and stretches\, encouraging body awareness. Exercise mat or towel is highly recommended. Hydration is a must bring more than 16.9 oz. of water. 12 years old & older
X-ALT-DESC;FMTTYPE=text/html:Group Training - An all levels foundation &amp\; form building program designed to increase strength\, endurance\, balance\, &amp\; stability utilizing body weight\; four key elements needed for overall health &amp\; well-being. Exercise mat or towel is highly recommended. Hydration is a must bring more than 16.9 oz. of water. Yoga -A yoga class to prepare the body for deep relaxation and restful sleep\; we begin with a gentle flow\, then move into a sequence of balance and floor poses with twists\, bends\, and stretches\, encouraging body awareness. Exercise mat or towel is highly recommended. Hydration is a must bring more than 16.9 oz. of water. 12 years old &amp\; older
LOCATION:Veterans Oasis Park Chandler Heights between Lindsay & Val Vista
UID:e.1561.19067
SEQUENCE:3
DTSTAMP:20260424T050743Z
URL:https://business.chandlerchamber.com/events/details/take-it-outside-19067
END:VEVENT

END:VCALENDAR
