BEGIN:VCALENDAR
VERSION:2.0
PRODID:-//ChamberMaster//Event Calendar 2.0//EN
METHOD:PUBLISH
X-PUBLISHED-TTL:P3D
REFRESH-INTERVAL:P3D
CALSCALE:GREGORIAN
BEGIN:VEVENT
DTSTART:20180421T010000Z
DTEND:20180421T043000Z
X-MICROSOFT-CDO-ALLDAYEVENT:FALSE
SUMMARY:Taste of the Islands Art Walk
DESCRIPTION:Monthly Third Friday Chandler Art Walk. Each art walk has it's own theme\, live music\, and local artisans selling their handmade wares. Mediums include woodworking\, jewelry\, painting\, and more. Many artists sell items priced $50 or less.
X-ALT-DESC;FMTTYPE=text/html:<span style="display: inline !important\; float: none\; background-color: transparent\; color: rgb(119\, 119\, 119)\; font-family: &quot\;proxima-nova&quot\;\; font-size: 14px\; font-style: normal\; font-variant: normal\; font-weight: 400\; letter-spacing: normal\; line-height: 22.4px\; orphans: 2\; text-align: left\; text-decoration: none\; text-indent: 0px\; text-transform: none\; -webkit-text-stroke-width: 0px\; white-space: normal\; word-spacing: 0px\; word-wrap: break-word\;">Monthly Third Friday Chandler Art Walk. Each art walk has it&#39\;s own theme\, live music\, and local artisans selling their handmade wares. Mediums include woodworking\, jewelry\, painting\, and more. Many artists sell items priced $50 or less.&nbsp\;</span>
LOCATION:Down Town Chandler
UID:e.1561.33641
SEQUENCE:3
DTSTAMP:20260423T193715Z
URL:https://business.chandlerchamber.com/events/details/taste-of-the-islands-art-walk-33641
END:VEVENT

END:VCALENDAR
