BEGIN:VCALENDAR
VERSION:2.0
PRODID:-//ChamberMaster//Event Calendar 2.0//EN
METHOD:PUBLISH
X-PUBLISHED-TTL:P3D
REFRESH-INTERVAL:P3D
CALSCALE:GREGORIAN
BEGIN:VEVENT
DTSTART:20171118T180000Z
DTEND:20171118T220000Z
X-MICROSOFT-CDO-ALLDAYEVENT:FALSE
SUMMARY:TechShop Anniversary Party
DESCRIPTION:TechShop is celebrating 4 years in Chandler! There will be a Maker Craft Market\, Demos\, cool hand on activities amd kids activity! Come check it out!
X-ALT-DESC;FMTTYPE=text/html:TechShop is celebrating 4 years in Chandler! There will be a Maker Craft Market\, Demos\, cool hand on activities amd kids activity! Come check it out!
LOCATION:TechShop 249 E Chicago Street Chandler\, AZ 85225
UID:e.1561.19202
SEQUENCE:3
DTSTAMP:20260424T022016Z
URL:https://business.chandlerchamber.com/events/details/techshop-anniversary-party-19202
END:VEVENT

END:VCALENDAR
