BEGIN:VCALENDAR
VERSION:2.0
PRODID:-//ChamberMaster//Event Calendar 2.0//EN
METHOD:PUBLISH
X-PUBLISHED-TTL:P3D
REFRESH-INTERVAL:P3D
CALSCALE:GREGORIAN
BEGIN:VEVENT
DTSTART:20180115T170000Z
DTEND:20180115T200000Z
X-MICROSOFT-CDO-ALLDAYEVENT:FALSE
SUMMARY:The ABC's of Starting a New Business
DESCRIPTION:Are you starting a new business or thinking about it? This session is an essential step in developing a business plan that will increase your chances of being successful. Should you start now? Where? How? What about money? Experienced business professionals will address each of these and help you get started on the best path for your business.
X-ALT-DESC;FMTTYPE=text/html:Are you starting a new business or thinking about it? This session is an essential step in developing a business plan that will increase your chances of being successful. Should you start now? Where? How? What about money? Experienced business professionals will address each of these and help you get started on the best path for your business.
LOCATION:Surprise AZ TechCelerator 12425 West Bell Road Surprise\, AZ\, 85378
UID:e.1561.20916
SEQUENCE:3
DTSTAMP:20260423T233647Z
URL:https://business.chandlerchamber.com/events/details/the-abc-s-of-starting-a-new-business-01-15-2018-20916
END:VEVENT

END:VCALENDAR
