BEGIN:VCALENDAR
VERSION:2.0
PRODID:-//ChamberMaster//Event Calendar 2.0//EN
METHOD:PUBLISH
X-PUBLISHED-TTL:P3D
REFRESH-INTERVAL:P3D
CALSCALE:GREGORIAN
BEGIN:VEVENT
DTSTART:20180203T170000Z
DTEND:20180203T200000Z
X-MICROSOFT-CDO-ALLDAYEVENT:FALSE
SUMMARY:The ABC's of Starting A New Business
DESCRIPTION:Are you starting a new business or thinking about it? This session is an essential step in developing a business plan that will increase your chances of being successful. Should you start now? Where? How? What about money? Experienced business professionals will address each of these and help you get started on the best path for your business.
X-ALT-DESC;FMTTYPE=text/html:Are you starting a new business or thinking about it? This session is an essential step in developing a business plan that will increase your chances of being successful. Should you start now? Where? How? What about money? Experienced business professionals will address each of these and help you get started on the best path for your business.
LOCATION:Tempe Public Library (Bric) 14079 s 40th pl Suite 130 Phoenix\, AZ\, 85044-6102
UID:e.1561.20912
SEQUENCE:3
DTSTAMP:20260423T220024Z
URL:https://business.chandlerchamber.com/events/details/the-abc-s-of-starting-a-new-business-20912
END:VEVENT

END:VCALENDAR
