BEGIN:VCALENDAR
VERSION:2.0
PRODID:-//ChamberMaster//Event Calendar 2.0//EN
METHOD:PUBLISH
X-PUBLISHED-TTL:P3D
REFRESH-INTERVAL:P3D
CALSCALE:GREGORIAN
BEGIN:VEVENT
DTSTART:20201028T230000Z
DTEND:20201029T000000Z
X-MICROSOFT-CDO-ALLDAYEVENT:FALSE
SUMMARY:The Borgen Project - Information Event
DESCRIPTION:Please join me as I discuss the national campaign that aims to make poverty a focus of U.S. Foreign Policy. During the virtual event I will discuss what the Borgen Project is\, tackle myths on global poverty\, various bills we promote for the betterment of our foreign allies\, current status of U.S. involvement\, and ways that you can help our cause. I hope to see you there!
X-ALT-DESC;FMTTYPE=text/html:Please join me as I discuss the national campaign that aims to make poverty a focus of U.S. Foreign Policy. During the virtual event I will discuss what the Borgen Project is\, tackle myths on global poverty\, various bills we promote for the betterment of our foreign allies\, current status of U.S. involvement\, and ways that you can help our cause. I hope to see you there!
LOCATION:Zoom ID: 364 000 0313
UID:e.1561.39269
SEQUENCE:3
DTSTAMP:20260425T002153Z
URL:https://business.chandlerchamber.com/events/details/the-borgen-project-information-event-39269
END:VEVENT

END:VCALENDAR
