BEGIN:VCALENDAR
VERSION:2.0
PRODID:-//ChamberMaster//Event Calendar 2.0//EN
METHOD:PUBLISH
X-PUBLISHED-TTL:P3D
REFRESH-INTERVAL:P3D
CALSCALE:GREGORIAN
BEGIN:VEVENT
DTSTART:20241019T160000Z
DTEND:20241019T200000Z
X-MICROSOFT-CDO-ALLDAYEVENT:FALSE
SUMMARY:The Concert Truck
DESCRIPTION:The Chandler Center for the Arts brings The Concert Truck to the community of Chandler for three unique performances in various locations. The Concert Truck is a traveling music venue that strengthens communities by redefining the concert experience and making live music accessible to everyone. These three community engagement events are provided free of charge and are made available for anyone to enjoy.
X-ALT-DESC;FMTTYPE=text/html:The Chandler Center for the Arts brings The Concert Truck to the community of Chandler for three unique performances in various locations. The Concert Truck is a traveling music venue that strengthens communities by redefining the concert experience and making live music accessible to everyone. These three community engagement events are provided free of charge and are made available for anyone to enjoy.
LOCATION:Chandler Farmer's Market Dr. A.J. Chandler Park 3 S Arizona Ave\, Chandler\, AZ 85225
UID:e.1561.50680
SEQUENCE:3
DTSTAMP:20260420T112904Z
URL:https://business.chandlerchamber.com/events/details/the-concert-truck-10-19-2024-50680
END:VEVENT

END:VCALENDAR
