BEGIN:VCALENDAR
VERSION:2.0
PRODID:-//ChamberMaster//Event Calendar 2.0//EN
METHOD:PUBLISH
X-PUBLISHED-TTL:P3D
REFRESH-INTERVAL:P3D
CALSCALE:GREGORIAN
BEGIN:VEVENT
DTSTART:20241020T190000Z
DTEND:20241020T210000Z
X-MICROSOFT-CDO-ALLDAYEVENT:FALSE
SUMMARY:The Concert Truck
DESCRIPTION:The Chandler Center for the Arts brings The Concert Truck to the community of Chandler for three unique performances in various locations. The Concert Truck is a traveling music venue that strengthens communities by redefining the concert experience and making live music accessible to everyone. These three community engagement events are provided free of charge and are made available for anyone to enjoy. No ticket or RSVP required to join\, just stop by and enjoy the music.
X-ALT-DESC;FMTTYPE=text/html:The Chandler Center for the Arts brings The Concert Truck to the community of Chandler for three unique performances in various locations. The Concert Truck is a traveling music venue that strengthens communities by redefining the concert experience and making live music accessible to everyone. These three community engagement events are provided free of charge and are made available for anyone to enjoy. No ticket or RSVP required to join\, just stop by and enjoy the music.
LOCATION:Downtown Chandler Art Walk Dr. A.J. Chandler Park 3 S Arizona Ave\, Chandler\, AZ 85225
UID:e.1561.50681
SEQUENCE:3
DTSTAMP:20260420T112905Z
URL:https://business.chandlerchamber.com/events/details/the-concert-truck-10-20-2024-50681
END:VEVENT

END:VCALENDAR
