BEGIN:VCALENDAR
VERSION:2.0
PRODID:-//ChamberMaster//Event Calendar 2.0//EN
METHOD:PUBLISH
X-PUBLISHED-TTL:P3D
REFRESH-INTERVAL:P3D
CALSCALE:GREGORIAN
BEGIN:VEVENT
DTSTART:20171118T220000Z
DTEND:20171118T230000Z
X-MICROSOFT-CDO-ALLDAYEVENT:FALSE
SUMMARY:The First Annual Taste of Ocotillo
DESCRIPTION:Join the Chandler Chamber at the First Annual Taste of Ocotillo\n\nRealty Executives Ribbon Cutting and Welcome Event
X-ALT-DESC;FMTTYPE=text/html:Join the Chandler Chamber at the First Annual Taste of Ocotillo<br />\nRealty Executives Ribbon Cutting and Welcome Event
LOCATION:2475 W Queen Creek Rd Chandler\, AZ 85248 SW corner Dobson/Queen Creek
UID:e.1561.19620
SEQUENCE:3
DTSTAMP:20260424T034640Z
URL:https://business.chandlerchamber.com/events/details/the-first-annual-taste-of-ocotillo-19620
END:VEVENT

END:VCALENDAR
