BEGIN:VCALENDAR
VERSION:2.0
PRODID:-//ChamberMaster//Event Calendar 2.0//EN
METHOD:PUBLISH
X-PUBLISHED-TTL:P3D
REFRESH-INTERVAL:P3D
CALSCALE:GREGORIAN
BEGIN:VEVENT
DTSTART:20191007T153000Z
DTEND:20191011T233000Z
X-MICROSOFT-CDO-ALLDAYEVENT:FALSE
SUMMARY:The Grantsmanship Training Program
DESCRIPTION:In this 5-day comprehensive\, hands-on training program\, you'll learn and practice how to: (1) use The Grantsmanship Center's proven model for developing a proposal--a model so effective that many funders use the same structure for their grant applications\; (2) develop a budget that answer the questions all funders ask\; (3) identify grantmakers who are most likely to fund your programs...and much\, much more! And you'll receive 12 months of follow-up support from The Grantsmanship Center\, including one proposal review and full access to the Center's databases of foundation\, corporate\, and government grantmakers!
X-ALT-DESC;FMTTYPE=text/html:In this 5-day comprehensive\, hands-on training program\, you&#39\;ll learn and practice how to: (1) use The Grantsmanship Center&#39\;s proven model for developing a proposal--a model so effective that many funders use the same structure for their grant applications\; (2) develop a budget that answer the questions all funders ask\; (3) identify grantmakers who are most likely to fund your programs...and much\, much more! And you&#39\;ll receive 12 months of follow-up support from The Grantsmanship Center\, including one proposal review and full access to the Center&#39\;s databases of foundation\, corporate\, and government grantmakers!
LOCATION:City of Mesa Main Library 64 E. 1st Street Saguaro Meeting Room Mesa\, AZ 85201
UID:e.1561.36813
SEQUENCE:3
DTSTAMP:20260422T201551Z
URL:https://business.chandlerchamber.com/events/details/the-grantsmanship-training-program-36813
END:VEVENT

END:VCALENDAR
