BEGIN:VCALENDAR
VERSION:2.0
PRODID:-//ChamberMaster//Event Calendar 2.0//EN
METHOD:PUBLISH
X-PUBLISHED-TTL:P3D
REFRESH-INTERVAL:P3D
CALSCALE:GREGORIAN
BEGIN:VEVENT
DTSTART:20180421T190000Z
DTEND:20180422T040000Z
X-MICROSOFT-CDO-ALLDAYEVENT:FALSE
SUMMARY:The Great Southwest Cajun Fest
DESCRIPTION:Southwest Cajun Fest celebrates Cajun culture\, cuisine and handcrafted beer\, and will feature live music with jazz\, blues and contemporary swing revival bands. Festival patrons will feel transported to the southeastern region of Louisiana during the fest. The festival will feature live entertainment and a variety of food vendors serving up regional dishes. Festivities also includes themed zones\, parades\, fun and festive celebration.
X-ALT-DESC;FMTTYPE=text/html:<span style="display: inline !important\; float: none\; background-color: transparent\; color: rgb(102\, 106\, 115)\; font-family: &quot\;Benton Sans&quot\;\,&quot\;Helvetica Neue&quot\;\,Helvetica\,Roboto\,Arial\,sans-serif\; font-size: 15px\; font-style: normal\; font-variant: normal\; font-weight: 400\; letter-spacing: 0.5px\; orphans: 2\; text-align: left\; text-decoration: none\; text-indent: 0px\; text-transform: none\; -webkit-text-stroke-width: 0px\; white-space: normal\; word-spacing: 0px\;">Southwest Cajun Fest celebrates Cajun culture\, cuisine and handcrafted beer\, and will feature live music with jazz\, blues and contemporary swing revival bands. Festival patrons will feel transported to the southeastern region of Louisiana during the fest. The festival will feature live entertainment and a variety of food vendors serving up regional dishes. Festivities also includes themed zones\, parades\, fun and festive celebration.</span>
LOCATION:178 E Commonwealth Ave Chandler\, AZ 85225
UID:e.1561.33607
SEQUENCE:3
DTSTAMP:20260423T193415Z
URL:https://business.chandlerchamber.com/events/details/the-great-southwest-cajun-fest-33607
END:VEVENT

END:VCALENDAR
