BEGIN:VCALENDAR
VERSION:2.0
PRODID:-//ChamberMaster//Event Calendar 2.0//EN
METHOD:PUBLISH
X-PUBLISHED-TTL:P3D
REFRESH-INTERVAL:P3D
CALSCALE:GREGORIAN
BEGIN:VEVENT
DTSTART:20220227T023000Z
DTEND:20220227T043000Z
X-MICROSOFT-CDO-ALLDAYEVENT:FALSE
SUMMARY:The Greatest Love of All
DESCRIPTION:Whitney Houston's musical legacy is brought to life in this critically acclaimed tribute show described as "mind-blowingly spot on". Be stunned by the breathtaking vocals of Belinda Davids   a RiSA chart-topping artist in her home country of South Africa - who has performed alongside the likes of Keri Hilson\, Keyshia Cole\, and Monica and featured on Fox TV's 'Showtime at the Apollo' and BBC1 TV's 'Even Better Than the Real Thing'. With the accompaniment of a live band\, backing vocalists\, and choreographed dancers\, plus state-of-the-art sound\, lighting\, vision\, and theatrical effects\, this is a beautifully crafted tribute to one of the world's most revered singers. The two-hour production will fill you with joy\, nostalgia\, and wonderment\, as it takes you on a heartfelt journey through Houston's greatest hits including 'I Will Always Love You\,' 'I Wanna Dance With Somebody\,' 'How Will I Know\,' 'One Moment in Time\,' 'I Have Nothing\,' 'Run to You\,' 'Didn't We Almost Have It All\,' 'Greatest Love of All\,' 'I'm Every Woman\,' 'Queen of the Night\,' 'Exhale (Shoop Shoop)\,' 'Million Dollar Bill\,' and more. The Greatest Love of All has already wowed audiences across the UK\, Europe\, Middle East\, Asia\, South Africa\, Australia\, and New Zealand\, and continues to gather glowing reviews worldwide. This special once-in-a-lifetime concert event will leave audiences wanting more and talking about it for years to come. Don't miss the chance to experience it for yourself. *NOT ASSOCIATED WITH THE ESTATE OF WHITNEY HOUSTON.
X-ALT-DESC;FMTTYPE=text/html:Whitney Houston&rsquo\;s musical legacy is brought to life in this critically acclaimed tribute show described as &ldquo\;mind-blowingly spot on&rdquo\;. Be stunned by the breathtaking vocals of Belinda Davids &ndash\; a RiSA chart-topping artist in her home country of South Africa - who has performed alongside the likes of Keri Hilson\, Keyshia Cole\, and Monica and featured on Fox TV&rsquo\;s &lsquo\;Showtime at the Apollo&rsquo\; and BBC1 TV&rsquo\;s &lsquo\;Even Better Than the Real Thing&rsquo\;. With the accompaniment of a live band\, backing vocalists\, and choreographed dancers\, plus state-of-the-art sound\, lighting\, vision\, and theatrical effects\, this is a beautifully crafted tribute to one of the world&rsquo\;s most revered singers. The two-hour production will fill you with joy\, nostalgia\, and wonderment\, as it takes you on a heartfelt journey through Houston&rsquo\;s greatest hits including &lsquo\;I Will Always Love You\,&rsquo\; &lsquo\;I Wanna Dance With Somebody\,&#39\; &lsquo\;How Will I Know\,&rsquo\; &lsquo\;One Moment in Time\,&rsquo\; &lsquo\;I Have Nothing\,&rsquo\; &lsquo\;Run to You\,&rsquo\; &lsquo\;Didn&rsquo\;t We Almost Have It All\,&rsquo\; &lsquo\;Greatest Love of All\,&rsquo\; &lsquo\;I&rsquo\;m Every Woman\,&rsquo\; &lsquo\;Queen of the Night\,&rsquo\; &lsquo\;Exhale (Shoop Shoop)\,&rsquo\; &lsquo\;Million Dollar Bill\,&rsquo\; and more. The Greatest Love of All has already wowed audiences across the UK\, Europe\, Middle East\, Asia\, South Africa\, Australia\, and New Zealand\, and continues to gather glowing reviews worldwide. This special once-in-a-lifetime concert event will leave audiences wanting more and talking about it for years to come. Don&rsquo\;t miss the chance to experience it for yourself. *NOT ASSOCIATED WITH THE ESTATE OF WHITNEY HOUSTON.
LOCATION:Chandler Center for the Arts 250 N. Arizona Avenue Chandler\, AZ 85225
UID:e.1561.40098
SEQUENCE:3
DTSTAMP:20260423T233416Z
URL:https://business.chandlerchamber.com/events/details/the-greatest-love-of-all-40098
END:VEVENT

END:VCALENDAR
