BEGIN:VCALENDAR
VERSION:2.0
PRODID:-//ChamberMaster//Event Calendar 2.0//EN
METHOD:PUBLISH
X-PUBLISHED-TTL:P3D
REFRESH-INTERVAL:P3D
CALSCALE:GREGORIAN
BEGIN:VEVENT
DTSTART:20200131T020000Z
DTEND:20200131T033000Z
X-MICROSOFT-CDO-ALLDAYEVENT:FALSE
SUMMARY:The History of the (Berlin) Wall: German Experiences for Arizona
DESCRIPTION:The issue of the US/Mexico border\, or any border today\, is of central importance. This presentation takes the history of the Berlin Wall as a starting point to address what walls have done to people and cultures throughout time. Can the Berlin Wall help Arizonans understand the critical issues better? Even if that might not be the case\, the history of that ominous wall and the cultural implications deserve our close attention. Presented by University of Arizona professor Albrecht Classen\, College of Humanities. This program is made possible by Arizona Humanities.
X-ALT-DESC;FMTTYPE=text/html:The issue of the US/Mexico border\, or any border today\, is of central importance. This presentation takes the history of the Berlin Wall as a starting point to address what walls have done to people and cultures throughout time. Can the Berlin Wall help Arizonans understand the critical issues better? Even if that might not be the case\, the history of that ominous wall and the cultural implications deserve our close attention. Presented by University of Arizona professor Albrecht Classen\, College of Humanities. This program is made possible by Arizona Humanities.
LOCATION:Chandler Museum
UID:e.1561.38585
SEQUENCE:3
DTSTAMP:20260420T152204Z
URL:https://business.chandlerchamber.com/events/details/the-history-of-the-berlin-wall-german-experiences-for-arizona-38585
END:VEVENT

END:VCALENDAR
