BEGIN:VCALENDAR
VERSION:2.0
PRODID:-//ChamberMaster//Event Calendar 2.0//EN
METHOD:PUBLISH
X-PUBLISHED-TTL:P3D
REFRESH-INTERVAL:P3D
CALSCALE:GREGORIAN
BEGIN:VEVENT
DTSTART:20190601T230000Z
DTEND:20190602T020000Z
X-MICROSOFT-CDO-ALLDAYEVENT:FALSE
SUMMARY:The Learning Experience - Family Event
DESCRIPTION:The Learning Experience is hosting an Open House Family Fun Event! Come join us for this free event open to the community. We'll have 10k lbs of snow\, slide and jump castles and face painting. There will be games to play in all the classrooms. The Happy Hot Dog and Kona Ice will be available for refreshments to purchase..
X-ALT-DESC;FMTTYPE=text/html:The Learning Experience is hosting an Open House Family Fun Event! Come join us for this free event open to the community. We&#39\;ll have 10k lbs of snow\, slide and jump castles and face painting. There will be games to play in all the classrooms. The Happy Hot Dog and Kona Ice will be available for refreshments to purchase..
LOCATION:The Learning Experience 3735 S Arizona Ave Chandler AZ 85248
UID:e.1561.36715
SEQUENCE:3
DTSTAMP:20260423T003741Z
URL:https://business.chandlerchamber.com/events/details/the-learning-experience-family-event-36715
END:VEVENT

END:VCALENDAR
