BEGIN:VCALENDAR
VERSION:2.0
PRODID:-//ChamberMaster//Event Calendar 2.0//EN
METHOD:PUBLISH
X-PUBLISHED-TTL:P3D
REFRESH-INTERVAL:P3D
CALSCALE:GREGORIAN
BEGIN:VEVENT
DTSTART:20241014T020000Z
DTEND:20241014T050000Z
X-MICROSOFT-CDO-ALLDAYEVENT:FALSE
SUMMARY:The Life and Music of George Michael
DESCRIPTION:Celebrate the performance and sound of one of the biggest international stars of our time. You will be on your feet dancing and singing along to songs from Wham! and solo blockbuster hits like\, "Freedom\," "Faith\," "Father Figure\," and more.
X-ALT-DESC;FMTTYPE=text/html:Celebrate the performance and sound of one of the biggest international stars of our time. You will be on your feet dancing and singing along to songs from Wham! and solo blockbuster hits like\, &ldquo\;Freedom\,&rdquo\; &ldquo\;Faith\,&rdquo\; &ldquo\;Father Figure\,&rdquo\; and more.
LOCATION:CHANDLER CENTER FOR THE ARTS 250 NORTH ARIZONA AVENUE CHANDLER\, AZ 85225-4567
UID:e.1561.50110
SEQUENCE:3
DTSTAMP:20260420T112951Z
URL:https://business.chandlerchamber.com/events/details/the-life-and-music-of-george-michael-50110
END:VEVENT

END:VCALENDAR
