BEGIN:VCALENDAR
VERSION:2.0
PRODID:-//ChamberMaster//Event Calendar 2.0//EN
METHOD:PUBLISH
X-PUBLISHED-TTL:P3D
REFRESH-INTERVAL:P3D
CALSCALE:GREGORIAN
BEGIN:VEVENT
DTSTART:20180810T020000Z
DTEND:20180810T040000Z
X-MICROSOFT-CDO-ALLDAYEVENT:FALSE
SUMMARY:The Local & Lost Our Home Pest Rescue: Comedy for a Cause
DESCRIPTION:The Local Chandler & Lost Our Home Pet Rescue presents:\n\nComedy For A Cause
X-ALT-DESC;FMTTYPE=text/html:The Local Chandler &amp\; Lost Our Home Pet Rescue presents:<br />\nComedy For A Cause
LOCATION:55 W Chicago St Chandler\, AZ 85225
UID:e.1561.34138
SEQUENCE:3
DTSTAMP:20260423T140044Z
URL:https://business.chandlerchamber.com/events/details/the-local-lost-our-home-pest-rescue-comedy-for-a-cause-34138
END:VEVENT

END:VCALENDAR
