BEGIN:VCALENDAR
VERSION:2.0
PRODID:-//ChamberMaster//Event Calendar 2.0//EN
METHOD:PUBLISH
X-PUBLISHED-TTL:P3D
REFRESH-INTERVAL:P3D
CALSCALE:GREGORIAN
BEGIN:VEVENT
DTSTART:20220924T023000Z
DTEND:20220924T043000Z
X-MICROSOFT-CDO-ALLDAYEVENT:FALSE
SUMMARY:The Magic of Bill Blagg Live!
DESCRIPTION:Teleporting across theaters\, squishing his body from six feet to six inches tall\, or passing through the blades of an industrial fan\, award-winning illusionist Bill Blagg is the master of jaw-dropping moments. Blagg's action-packed show features random audience volunteers levitating in mid-air\, while others disappear at a moment's notice. These new\, never-before-seen illusions surprise and delight audiences of all ages\, making this show the perfect choice for a family fun night.
X-ALT-DESC;FMTTYPE=text/html:Teleporting across theaters\, squishing his body from six feet to six inches tall\, or passing through the blades of an industrial fan\, award-winning illusionist Bill Blagg is the master of jaw-dropping moments. Blagg&rsquo\;s action-packed show features random audience volunteers levitating in mid-air\, while others disappear at a moment&rsquo\;s notice. These new\, never-before-seen illusions surprise and delight audiences of all ages\, making this show the perfect choice for a family fun night.
LOCATION:Chandler Center for the Arts
UID:e.1561.40692
SEQUENCE:3
DTSTAMP:20260423T174950Z
URL:https://business.chandlerchamber.com/events/details/the-magic-of-bill-blagg-live-40692
END:VEVENT

END:VCALENDAR
