BEGIN:VCALENDAR
VERSION:2.0
PRODID:-//ChamberMaster//Event Calendar 2.0//EN
METHOD:PUBLISH
X-PUBLISHED-TTL:P3D
REFRESH-INTERVAL:P3D
CALSCALE:GREGORIAN
BEGIN:VEVENT
DTSTART:20171018T020000Z
DTEND:20171018T040000Z
X-MICROSOFT-CDO-ALLDAYEVENT:FALSE
SUMMARY:The Original Food Truck: Chuck Wagons and the Wagon Trail
DESCRIPTION:Chandler Museum and Alamo Drafthouse Cinema present Trivia Night with Hip Historian Marshall Shore Giddy up\, guys and gals! It is time to go head-to-head with other trivia teams as you test your knowledge about the original food truck   the chuck wagon   and the wagon trail. Cocktail in one hand\, pencil in the other and delicious food in front of you\, it is a guaranteed fun time! Did we mention there are prizes? And\, a raffle? Well\, now we did! Come on out and compete in trivia team of four to six. Reserve your seat at Alamo Drafthouse\, with five bucks\, which will go toward your food and beverage purchases that night. We can't wait to see you! It is going to be a really great time! Tuesday\, October 17\, 2017\, 7   9 p.m.\, Alamo Drafthouse Cinema\, 4955 S. Arizona Avenue\, Chandler. More information at chandlermuseum.org.
X-ALT-DESC;FMTTYPE=text/html:Chandler Museum and Alamo Drafthouse Cinema present Trivia Night with Hip Historian Marshall Shore Giddy up\, guys and gals! It is time to go head-to-head with other trivia teams as you test your knowledge about the original food truck &ndash\; the chuck wagon &ndash\; and the wagon trail. Cocktail in one hand\, pencil in the other and delicious food in front of you\, it is a guaranteed fun time! Did we mention there are prizes? And\, a raffle? Well\, now we did! Come on out and compete in trivia team of four to six. Reserve your seat at Alamo Drafthouse\, with five bucks\, which will go toward your food and beverage purchases that night. We can&#39\;t wait to see you! It is going to be a really great time! Tuesday\, October 17\, 2017\, 7 &ndash\; 9 p.m.\, Alamo Drafthouse Cinema\, 4955 S. Arizona Avenue\, Chandler. More information at chandlermuseum.org.
LOCATION:Alamao Drafthouse Cinema 4955 S. Arizona Avenue\, Chandler
UID:e.1561.19134
SEQUENCE:3
DTSTAMP:20260424T035755Z
URL:https://business.chandlerchamber.com/events/details/the-original-food-truck-chuck-wagons-and-the-wagon-trail-10-17-2017-19134
END:VEVENT

END:VCALENDAR
