BEGIN:VCALENDAR
VERSION:2.0
PRODID:-//ChamberMaster//Event Calendar 2.0//EN
METHOD:PUBLISH
X-PUBLISHED-TTL:P3D
REFRESH-INTERVAL:P3D
CALSCALE:GREGORIAN
BEGIN:VEVENT
DTSTART:20220402T150000Z
DTEND:20220402T190000Z
X-MICROSOFT-CDO-ALLDAYEVENT:FALSE
SUMMARY:The Pregnancy Care Center Life Walk
DESCRIPTION:Walking in Hope for women in unplanned pregnancy\, the children and the family!  \n\n\n\nOur goal is to raise $30\,000 by the time we walk on April 2\, 2022.  Will you help us ?   Registration link is live!  \n\n\n\nhttps://secure.fundeasy.com/ministrysync/event/website/home/?e=22556\n\n\n\nCheck in time is 8 AM\, and walk  begins at 8:45 AM.\n\n\n\nThe Pregnancy Care Center provides FREE pregnancy test\, ultrasound\, options counseling\; post-abortive care\, pre-natal\, life skills classes plus Fatherhood program to launch soon.
X-ALT-DESC;FMTTYPE=text/html:<p>Walking in Hope for women in unplanned pregnancy\, the children and the family!&nbsp\;&nbsp\;<br />\n<br />\nOur goal is to raise $30\,000 by the time we walk on April 2\, 2022.&nbsp\; Will you help us ?&nbsp\; &nbsp\;Registration link is live!&nbsp\;&nbsp\;<br />\n<br />\n<span style="font-family:arial\,sans-serif\; font-size:12pt"><a href="https://secure.fundeasy.com/ministrysync/event/website/home/?e=22556">https://secure.fundeasy.com/ministrysync/event/website/home/?e=22556</a></span><br />\n<br />\nCheck in time is 8 AM\, and walk&nbsp\; begins at 8:45 AM.<br />\n<br />\n<span style="background-color:rgb(255\, 255\, 255)\; color:rgb(68\, 68\, 68)\; font-family:helvetica\,arial\,sans-serif\; font-size:15px">The Pregnancy Care Center provides FREE pregnancy test\, ultrasound\, options counseling\; post-abortive care\, pre-natal\, life skills classes plus Fatherhood program to launch soon.</span></p>\n
LOCATION:Valley Christian School 6900 West Galveston Street Chandler\, AZ 85226
UID:e.1561.40640
SEQUENCE:3
DTSTAMP:20260423T222157Z
URL:https://business.chandlerchamber.com/events/details/the-pregnancy-care-center-life-walk-40640
END:VEVENT

END:VCALENDAR
