BEGIN:VCALENDAR
VERSION:2.0
PRODID:-//ChamberMaster//Event Calendar 2.0//EN
METHOD:PUBLISH
X-PUBLISHED-TTL:P3D
REFRESH-INTERVAL:P3D
CALSCALE:GREGORIAN
BEGIN:VEVENT
DTSTART:20220409T140000Z
DTEND:20220410T000000Z
X-MICROSOFT-CDO-ALLDAYEVENT:FALSE
SUMMARY:The Reunion Truck Show
DESCRIPTION:The Reunion Truck Show\n\n\n\nMore info coming soon!
X-ALT-DESC;FMTTYPE=text/html:The Reunion Truck Show<br />\n<br />\nMore info coming soon!
LOCATION:125 E Commonwealth Ave Chandler\, AZ 85225
UID:e.1561.40625
SEQUENCE:3
DTSTAMP:20260423T222136Z
URL:https://business.chandlerchamber.com/events/details/the-reunion-truck-show-40625
END:VEVENT

END:VCALENDAR
