BEGIN:VCALENDAR
VERSION:2.0
PRODID:-//ChamberMaster//Event Calendar 2.0//EN
METHOD:PUBLISH
X-PUBLISHED-TTL:P3D
REFRESH-INTERVAL:P3D
CALSCALE:GREGORIAN
BEGIN:VEVENT
DTSTART:20220409T160000Z
DTEND:20220410T000000Z
X-MICROSOFT-CDO-ALLDAYEVENT:FALSE
SUMMARY:The REUNION Truck Show
DESCRIPTION:5 STORY Parking Garage Stacked with Classic Trucks!\n\n'98 and older:  GM\, Ford\, Dodge\, & mini-Trucks!\n\nFood Trucks\n\n30 +  Vendors
X-ALT-DESC;FMTTYPE=text/html:5 STORY Parking Garage Stacked with Classic Trucks!<br />\n&#39\;98 and older:&nbsp\; GM\, Ford\, Dodge\, &amp\; mini-Trucks!<br />\nFood Trucks<br />\n30 +&nbsp\; Vendors&nbsp\;
LOCATION:Parking Garage behind The Jonathon 25 E Commonwealth Ave
UID:e.1561.40664
SEQUENCE:3
DTSTAMP:20260423T222059Z
URL:https://business.chandlerchamber.com/events/details/the-reunion-truck-show-40664
END:VEVENT

END:VCALENDAR
