BEGIN:VCALENDAR
VERSION:2.0
PRODID:-//ChamberMaster//Event Calendar 2.0//EN
METHOD:PUBLISH
X-PUBLISHED-TTL:P3D
REFRESH-INTERVAL:P3D
CALSCALE:GREGORIAN
BEGIN:VEVENT
DTSTART:20230311T150000Z
DTEND:20230311T230000Z
X-MICROSOFT-CDO-ALLDAYEVENT:FALSE
SUMMARY:The REUNION Truck Show
DESCRIPTION:This event is put on by Reunion Truck Show\, for more information\, click HERE.\n\n\nCome stroll through our multi-level parking garage filled with classic trucks: Chevy\, GMC\, Dodge\, Ford and mini-trucks too! Showcasing a variety of industry exhibitors on the lawn\, with a DJ spinning some fresh beats on stage and plenty of tasty food trucks on site. Free family friendly event!
X-ALT-DESC;FMTTYPE=text/html:<div style="text-align: center\;"><strong><span font-size:="" open=""><span style="color:#4B0082\;">This event is put on by Reunion Truck Show\, for more information\, click </span><a href="https://reuniontruckshow.com/"><span style="color:#4B0082\;">HERE</span></a><span style="color:#4B0082\;">.</span></span></strong></div>\n<br />\n<span font-size:="" open="" style="color: rgb(94\, 94\, 94)\; font-family: ">Come stroll through our multi-level parking garage filled with classic trucks: Chevy\, GMC\, Dodge\, Ford and mini-trucks too! Showcasing a variety of industry exhibitors on the lawn\, with a DJ spinning some fresh beats on stage and plenty of tasty food trucks on site. Free family friendly event!&nbsp\;</span>
LOCATION:125 E Commonwealth Ave Chandler\, AZ 85225
UID:e.1561.44666
SEQUENCE:3
DTSTAMP:20260423T203115Z
URL:https://business.chandlerchamber.com/events/details/the-reunion-truck-show-44666
END:VEVENT

END:VCALENDAR
