BEGIN:VCALENDAR
VERSION:2.0
PRODID:-//ChamberMaster//Event Calendar 2.0//EN
METHOD:PUBLISH
X-PUBLISHED-TTL:P3D
REFRESH-INTERVAL:P3D
CALSCALE:GREGORIAN
BEGIN:VEVENT
DTSTART:20180915T150000Z
DTEND:20180915T230000Z
X-MICROSOFT-CDO-ALLDAYEVENT:FALSE
SUMMARY:The Startup Connection
DESCRIPTION:Are You Ready? The Art of the Pitch and the Science of Funding Every day companies need funding. And everyday investors are looking for companies to fund. But where do the two come together\, and how does a first time startup know about what an investor is looking for? Usually they don't. We've got a solution One event where event where you can learn first-hand from both perspectives. Our prestigious speaker lineup features local successful entrepreneurs and investors to tell the real story of how things work\, what is important\, and lessons learned. Join us September 14 (reception) and 15 for this must attend event! Please note that the reception on Friday night is being held at a different location: SOHO 63\, 63 E. Boston St.\, Chandler This event is free and seating is very limited so reservations are required
X-ALT-DESC;FMTTYPE=text/html:Are You Ready? The Art of the Pitch and the Science of Funding Every day companies need funding. And everyday investors are looking for companies to fund. But where do the two come together\, and how does a first time startup know about what an investor is looking for? Usually they don&#39\;t. We&#39\;ve got a solution One event where event where you can learn first-hand from both perspectives. Our prestigious speaker lineup features local successful entrepreneurs and investors to tell the real story of how things work\, what is important\, and lessons learned. Join us September 14 (reception) and 15 for this must attend event! Please note that the reception on Friday night is being held at a different location: SOHO 63\, 63 E. Boston St.\, Chandler This event is free and seating is very limited so reservations are required
LOCATION:Chandler Innovations 249 E Chicago St\, Chandler
UID:e.1561.34151
SEQUENCE:3
DTSTAMP:20260423T133845Z
URL:https://business.chandlerchamber.com/events/details/the-startup-connection-34151
END:VEVENT

END:VCALENDAR
