BEGIN:VCALENDAR
VERSION:2.0
PRODID:-//ChamberMaster//Event Calendar 2.0//EN
METHOD:PUBLISH
X-PUBLISHED-TTL:P3D
REFRESH-INTERVAL:P3D
CALSCALE:GREGORIAN
BEGIN:VEVENT
DTSTART:20180915T000000Z
DTEND:20180915T020000Z
X-MICROSOFT-CDO-ALLDAYEVENT:FALSE
SUMMARY:The Startup Connection Opening Reception
DESCRIPTION:This is the opening reception for The Startup Connection held September 15th. Kirsten Hathcock is the keynote speaker. Come and enjoy the activities with our entrepreneur and investor community.
X-ALT-DESC;FMTTYPE=text/html:This is the opening reception for The Startup Connection held September 15th. Kirsten Hathcock is the keynote speaker. Come and enjoy the activities with our entrepreneur and investor community.
LOCATION:SOHO 63\, 63 E Boston\, Chandler
UID:e.1561.34152
SEQUENCE:3
DTSTAMP:20260423T124034Z
URL:https://business.chandlerchamber.com/events/details/the-startup-connection-opening-reception-34152
END:VEVENT

END:VCALENDAR
