BEGIN:VCALENDAR
VERSION:2.0
PRODID:-//ChamberMaster//Event Calendar 2.0//EN
METHOD:PUBLISH
X-PUBLISHED-TTL:P3D
REFRESH-INTERVAL:P3D
CALSCALE:GREGORIAN
BEGIN:VEVENT
DTSTART:20220306T220000Z
DTEND:20220307T000000Z
X-MICROSOFT-CDO-ALLDAYEVENT:FALSE
SUMMARY:The World-Famous Glenn Miller Orchestra
DESCRIPTION:2021/2022 Season "A band ought to have a sound all of its own. It ought to have a personality."   Glenn Miller With its unique jazz sound\, the legendary Glenn Miller Orchestra is considered to be one of the greatest and most popular big bands of all time. From "Moonlight Serenade" to "Chattanooga Choo Choo\," relive some of the most popular music of the 1940s with the Glenn Miller Orchestra when it comes to Chandler for an afternoon of swing music and nostalgia.
X-ALT-DESC;FMTTYPE=text/html:2021/2022 Season &ldquo\;A band ought to have a sound all of its own. It ought to have a personality.&rdquo\; &ndash\; Glenn Miller With its unique jazz sound\, the legendary Glenn Miller Orchestra is considered to be one of the greatest and most popular big bands of all time. From &ldquo\;Moonlight Serenade&rdquo\; to &ldquo\;Chattanooga Choo Choo\,&rdquo\; relive some of the most popular music of the 1940s with the Glenn Miller Orchestra when it comes to Chandler for an afternoon of swing music and nostalgia.
LOCATION:Chandler Center for the Arts 250 N. Arizona Avenue Chandler\, AZ 85225
UID:e.1561.40099
SEQUENCE:3
DTSTAMP:20260423T234138Z
URL:https://business.chandlerchamber.com/events/details/the-world-famous-glenn-miller-orchestra-40099
END:VEVENT

END:VCALENDAR
