BEGIN:VCALENDAR
VERSION:2.0
PRODID:-//ChamberMaster//Event Calendar 2.0//EN
METHOD:PUBLISH
X-PUBLISHED-TTL:P3D
REFRESH-INTERVAL:P3D
CALSCALE:GREGORIAN
BEGIN:VEVENT
DTSTART:20150812T150000Z
DTEND:20150812T160000Z
X-MICROSOFT-CDO-ALLDAYEVENT:FALSE
SUMMARY:Three Effective Strategies to Achieving PMP Certificatio
DESCRIPTION:Join us for a free business workshop. The Project Management Professional (PMP) is the most widely recognized project management certification with over 600\,000 certified individuals. In our FREE workshop you will learn the best practices to getting your PMP or CAPM certification. Gain insights into: 1.Why you should get PMP or CAPM Certified 2.Overview of Project Management Body of Knowledge 3.What's involved in getting PMP Certified 4.Three effective strategies to get PMP certified 5.How can I improve my chances of getting certified on the first attempt?
X-ALT-DESC;FMTTYPE=text/html:Join us for a free business workshop. The Project Management Professional (PMP) is the most widely recognized project management certification with over 600\,000 certified individuals. In our FREE workshop you will learn the best practices to getting your PMP or CAPM certification. Gain insights into: 1.Why you should get PMP or CAPM Certified 2.Overview of Project Management Body of Knowledge 3.What&#39\;s involved in getting PMP Certified 4.Three effective strategies to get PMP certified 5.How can I improve my chances of getting certified on the first attempt?
LOCATION:Microsoft Chandler Fashion Center store - 3111 W Chandler Blvd.\, Chandler 85226
UID:e.1561.13145
SEQUENCE:3
DTSTAMP:20260425T183530Z
URL:https://business.chandlerchamber.com/events/details/three-effective-strategies-to-achieving-pmp-certificatio-08-12-2015-13145
END:VEVENT

END:VCALENDAR
