BEGIN:VCALENDAR
VERSION:2.0
PRODID:-//ChamberMaster//Event Calendar 2.0//EN
METHOD:PUBLISH
X-PUBLISHED-TTL:P3D
REFRESH-INTERVAL:P3D
CALSCALE:GREGORIAN
BEGIN:VEVENT
DTSTART:20180802T184500Z
DTEND:20180802T200000Z
X-MICROSOFT-CDO-ALLDAYEVENT:FALSE
SUMMARY:Thursday Lunch Leads Group Open House
DESCRIPTION:Please join us at our Open House for lunch\, networking opportunities\, information about the Chandler Chamber as well as the benefits of attending a leads Group.Door Prizes will be given out. Come join us. All are welcome.
X-ALT-DESC;FMTTYPE=text/html:Please join us at our Open House for lunch\, networking opportunities\, information about the Chandler Chamber as well as the benefits of attending a leads Group.Door Prizes will be given out. Come join us. All are welcome.
LOCATION:Old Spaghetti Company Chandler Mall 3155 W. Chandler BLVD#9 Chandler AZ 85226
UID:e.1561.33724
SEQUENCE:3
DTSTAMP:20260423T135532Z
URL:https://business.chandlerchamber.com/events/details/thursday-lunch-leads-group-open-house-33724
END:VEVENT

END:VCALENDAR
