BEGIN:VCALENDAR
VERSION:2.0
PRODID:-//ChamberMaster//Event Calendar 2.0//EN
METHOD:PUBLISH
X-PUBLISHED-TTL:P3D
REFRESH-INTERVAL:P3D
CALSCALE:GREGORIAN
BEGIN:VEVENT
DTSTART:20210701T143000Z
DTEND:20210701T153000Z
X-MICROSOFT-CDO-ALLDAYEVENT:FALSE
SUMMARY:Thursday Morning Leads Group Chandler Chamber
DESCRIPTION:
X-ALT-DESC;FMTTYPE=text/html:
LOCATION:In-Person Meeting held at the Chandler Fashion Center (Chandler Room) 3111 W Chandler Blvd Come in through the Food Court and make your first right down the hallway. Follow the hallway around to the Chandler Room.
UID:e.1561.37022
SEQUENCE:3
DTSTAMP:20260423T113330Z
URL:https://business.chandlerchamber.com/events/details/thursday-morning-leads-group-chandler-chamber-07-01-2021-37022
END:VEVENT

END:VCALENDAR
