BEGIN:VCALENDAR
VERSION:2.0
PRODID:-//ChamberMaster//Event Calendar 2.0//EN
METHOD:PUBLISH
X-PUBLISHED-TTL:P3D
REFRESH-INTERVAL:P3D
CALSCALE:GREGORIAN
BEGIN:VEVENT
DTSTART:20200730T143000Z
DTEND:20200730T153000Z
X-MICROSOFT-CDO-ALLDAYEVENT:FALSE
SUMMARY:Thursday Morning Leads Group Chandler Chamber
DESCRIPTION:Go-Getters  Leads Group
X-ALT-DESC;FMTTYPE=text/html:<div style="color: rgb(68\, 68\, 68)\; line-height: 18px\; font-family: Helvetica Neue\, Arial\, sans-serif\; font-size: 13px\;"><span style="font-size:16px\;"><span style="color:#000000\;"><strong>Go-Getters&nbsp\; Leads Group</strong></span></span></div>\n
LOCATION:Virtual Meeting Contact the Chamber for information
UID:e.1561.36974
SEQUENCE:3
DTSTAMP:20260424T194551Z
URL:https://business.chandlerchamber.com/events/details/thursday-morning-leads-group-chandler-chamber-07-30-2020-36974
END:VEVENT

END:VCALENDAR
