BEGIN:VCALENDAR
VERSION:2.0
PRODID:-//ChamberMaster//Event Calendar 2.0//EN
METHOD:PUBLISH
X-PUBLISHED-TTL:P3D
REFRESH-INTERVAL:P3D
CALSCALE:GREGORIAN
BEGIN:VEVENT
DTSTART:20200806T143000Z
DTEND:20200806T153000Z
X-MICROSOFT-CDO-ALLDAYEVENT:FALSE
SUMMARY:Thursday Morning Leads Group Chandler Chamber
DESCRIPTION:Go-Getters  Leads Group\n\nWe meet every Thursday with the exception of the\n\n4th Thursday of the month at which time we will be attending the\n\nMember Welcome Breakfast.
X-ALT-DESC;FMTTYPE=text/html:<div style="color: rgb(68\, 68\, 68)\; line-height: 18px\; font-family: Helvetica Neue\, Arial\, sans-serif\; font-size: 13px\;"><span style="font-size:16px\;"><span style="color:#000000\;"><strong>Go-Getters&nbsp\; Leads Group</strong><br />\nWe meet every Thursday with the exception of the<br />\n4th Thursday of the month at which time&nbsp\;we will be attending the<br />\nMember Welcome Breakfast.</span></span><br />\n&nbsp\;</div>\n\n<div style="color: rgb(68\, 68\, 68)\; line-height: 18px\; font-family: Helvetica Neue\, Arial\, sans-serif\; font-size: 13px\;">&nbsp\;</div>\n
LOCATION:Virtual Meeting Contact the Chamber for more information
UID:e.1561.36975
SEQUENCE:3
DTSTAMP:20260424T225531Z
URL:https://business.chandlerchamber.com/events/details/thursday-morning-leads-group-chandler-chamber-08-06-2020-36975
END:VEVENT

END:VCALENDAR
