BEGIN:VCALENDAR
VERSION:2.0
PRODID:-//ChamberMaster//Event Calendar 2.0//EN
METHOD:PUBLISH
X-PUBLISHED-TTL:P3D
REFRESH-INTERVAL:P3D
CALSCALE:GREGORIAN
BEGIN:VEVENT
DTSTART:20220429T020000Z
DTEND:20220429T030000Z
X-MICROSOFT-CDO-ALLDAYEVENT:FALSE
SUMMARY:Thursday Night Music Series: Folk Music Night at the Chandler Museum
DESCRIPTION:Evening programs are back at Chandler Museum! Join us every Thursday night in April to explore\, socialize\, be inspired\, and have fun with a common theme music! Thursday\, April 28\, 7:00-8:00pm Experience an evening of folk music from the 1930s as sung by Squires Studios premier student vocalists. Expressive and eloquent\, these performers will transport you with the sounds and stories of the Great Depression. General Information: Free Admission Tuesday-Saturday 10am-5pm\, Sunday 1-5pm\, Closed Monday East Valley History Center\, Thursdays\, 2-5pm Closures: Sunday\, April 17
X-ALT-DESC;FMTTYPE=text/html:Evening programs are back at Chandler Museum! Join us every Thursday night in April to explore\, socialize\, be inspired\, and have fun with a common theme&mdash\;music! Thursday\, April 28\, 7:00-8:00pm Experience an evening of folk music from the 1930s as sung by Squires Studios premier student vocalists. Expressive and eloquent\, these performers will transport you with the sounds and stories of the Great Depression. General Information: Free Admission Tuesday-Saturday 10am-5pm\, Sunday 1-5pm\, Closed Monday East Valley History Center\, Thursdays\, 2-5pm Closures: Sunday\, April 17
LOCATION:Chandler Museum 300 S. Chandler Village Drive Chandler\, Arizona 85226
UID:e.1561.40667
SEQUENCE:3
DTSTAMP:20260423T222455Z
URL:https://business.chandlerchamber.com/events/details/thursday-night-music-series-folk-music-night-at-the-chandler-museum-40667
END:VEVENT

END:VCALENDAR
