BEGIN:VCALENDAR
VERSION:2.0
PRODID:-//ChamberMaster//Event Calendar 2.0//EN
METHOD:PUBLISH
X-PUBLISHED-TTL:P3D
REFRESH-INTERVAL:P3D
CALSCALE:GREGORIAN
BEGIN:VEVENT
DTSTART:20220408T020000Z
DTEND:20220408T033000Z
X-MICROSOFT-CDO-ALLDAYEVENT:FALSE
SUMMARY:Thursday Night Music Series: Putting the West in Country & Western
DESCRIPTION:Evening programs are back at Chandler Museum! Join us every Thursday night in April to explore\, socialize\, be inspired\, and have fun with a common theme music! Putting the West in Country & Western: How Chandler and the Valley Helped Create Modern Country Music Thursday\, April 7\, 7:00-8:30 pm When the Dust Bowl pushed a wave of migrants toward Chandler\, music came with them. Listen in while local historian William Holly reveals how patterns of migration led to a new kind of music\, as artists from Buck Owens to Waylon Jennings put Chandler and the Valley on the country music map. Arrive before the program to experience the exhibition "Picturing Home: Dust Bowl Migrants in Chandler\," opening March 8\, 2022. Register to guarantee your spot: https://www.eventbrite.com/e/thursday-night-music-series-putting-the-west-in-country-and-western-tickets-274991696567 General Information: Free Admission Tuesday-Saturday 10am-5pm\, Sunday 1-5pm\, Closed Monday East Valley History Center\, Thursdays\, 2-5pm Closures: Sunday\, April 17
X-ALT-DESC;FMTTYPE=text/html:Evening programs are back at Chandler Museum! Join us every Thursday night in April to explore\, socialize\, be inspired\, and have fun with a common theme&mdash\;music! Putting the West in Country &amp\; Western: How Chandler and the Valley Helped Create Modern Country Music Thursday\, April 7\, 7:00-8:30 pm When the Dust Bowl pushed a wave of migrants toward Chandler\, music came with them. Listen in while local historian William Holly reveals how patterns of migration led to a new kind of music\, as artists from Buck Owens to Waylon Jennings put Chandler and the Valley on the country music map. Arrive before the program to experience the exhibition &ldquo\;Picturing Home: Dust Bowl Migrants in Chandler\,&rdquo\; opening March 8\, 2022. Register to guarantee your spot: https://www.eventbrite.com/e/thursday-night-music-series-putting-the-west-in-country-and-western-tickets-274991696567 General Information: Free Admission Tuesday-Saturday 10am-5pm\, Sunday 1-5pm\, Closed Monday East Valley History Center\, Thursdays\, 2-5pm Closures: Sunday\, April 17
LOCATION:Chandler Museum 300 S. Chandler Village Drive Chandler\, Arizona 85226
UID:e.1561.40646
SEQUENCE:3
DTSTAMP:20260424T001209Z
URL:https://business.chandlerchamber.com/events/details/thursday-night-music-series-putting-the-west-in-country-western-40646
END:VEVENT

END:VCALENDAR
