BEGIN:VCALENDAR
VERSION:2.0
PRODID:-//ChamberMaster//Event Calendar 2.0//EN
METHOD:PUBLISH
X-PUBLISHED-TTL:P3D
REFRESH-INTERVAL:P3D
CALSCALE:GREGORIAN
BEGIN:VEVENT
DTSTART:20220422T020000Z
DTEND:20220422T040000Z
X-MICROSOFT-CDO-ALLDAYEVENT:FALSE
SUMMARY:Thursday Night Music Series: Swing Dance Night
DESCRIPTION:Evening programs are back at Chandler Museum! Join us every Thursday night in April to explore\, socialize\, be inspired\, and have fun with a common theme music! Come join us at the Chandler Museum for a night of swing dance with the Arizona Lindy Hop Society. Check out a routine from some Lindy Hop dancers\, take part in a small lesson\, and then show off your moves during a social dance experience. General Information: Free Admission Tuesday-Saturday 10am-5pm\, Sunday 1-5pm\, Closed Monday East Valley History Center\, Thursdays\, 2-5pm Closures: Sunday\, April 17
X-ALT-DESC;FMTTYPE=text/html:Evening programs are back at Chandler Museum! Join us every Thursday night in April to explore\, socialize\, be inspired\, and have fun with a common theme&mdash\;music! Come join us at the Chandler Museum for a night of swing dance with the Arizona Lindy Hop Society. Check out a routine from some Lindy Hop dancers\, take part in a small lesson\, and then show off your moves during a social dance experience. General Information: Free Admission Tuesday-Saturday 10am-5pm\, Sunday 1-5pm\, Closed Monday East Valley History Center\, Thursdays\, 2-5pm Closures: Sunday\, April 17
LOCATION:Chandler Museum 300 S. Chandler Village Drive Chandler\, Arizona 85226
UID:e.1561.40650
SEQUENCE:3
DTSTAMP:20260423T222003Z
URL:https://business.chandlerchamber.com/events/details/thursday-night-music-series-swing-dance-night-40650
END:VEVENT

END:VCALENDAR
