BEGIN:VCALENDAR
VERSION:2.0
PRODID:-//ChamberMaster//Event Calendar 2.0//EN
METHOD:PUBLISH
X-PUBLISHED-TTL:P3D
REFRESH-INTERVAL:P3D
CALSCALE:GREGORIAN
BEGIN:VEVENT
DTSTART:20220415T020000Z
DTEND:20220415T040000Z
X-MICROSOFT-CDO-ALLDAYEVENT:FALSE
SUMMARY:Thursday Night Music Series: Trivia Night at Chandler Museum - Music!
DESCRIPTION:Evening programs are back at Chandler Museum! Join us every Thursday night in April to explore\, socialize\, be inspired\, and have fun with a common theme music! What do you know about music in Chandler? From the obvious to the obscure\, go head-to-head with other trivia teams as you test your musical history skills! Pencil in one hand and delicious nibbles in the other\, it's a guaranteed good time. LaShay Marks conducts the fun as you compete solo or with a team of two to six. Vie for prizes\, try your luck in a raffle\, and enjoy small bites and self-serve mocktails\, compliments of the Museum! Register to guarantee your spot (if playing as a team\, be sure all members are individually registered): https://www.eventbrite.com/e/trivia-night-at-chandler-museum-music-tickets-275029088407 General Information: Free Admission Tuesday-Saturday 10am-5pm\, Sunday 1-5pm\, Closed Monday East Valley History Center\, Thursdays\, 2-5pm Closures: Sunday\, April 17
X-ALT-DESC;FMTTYPE=text/html:Evening programs are back at Chandler Museum! Join us every Thursday night in April to explore\, socialize\, be inspired\, and have fun with a common theme&mdash\;music! What do you know about music in Chandler? From the obvious to the obscure\, go head-to-head with other trivia teams as you test your musical history skills! Pencil in one hand and delicious nibbles in the other\, it&rsquo\;s a guaranteed good time. LaShay Marks conducts the fun as you compete solo or with a team of two to six. Vie for prizes\, try your luck in a raffle\, and enjoy small bites and self-serve mocktails\, compliments of the Museum! Register to guarantee your spot (if playing as a team\, be sure all members are individually registered): https://www.eventbrite.com/e/trivia-night-at-chandler-museum-music-tickets-275029088407 General Information: Free Admission Tuesday-Saturday 10am-5pm\, Sunday 1-5pm\, Closed Monday East Valley History Center\, Thursdays\, 2-5pm Closures: Sunday\, April 17
LOCATION:Chandler Museum 300 S. Chandler Village Drive Chandler\, Arizona 85226
UID:e.1561.40649
SEQUENCE:3
DTSTAMP:20260423T222511Z
URL:https://business.chandlerchamber.com/events/details/thursday-night-music-series-trivia-night-at-chandler-museum-music-40649
END:VEVENT

END:VCALENDAR
