BEGIN:VCALENDAR
VERSION:2.0
PRODID:-//ChamberMaster//Event Calendar 2.0//EN
METHOD:PUBLISH
X-PUBLISHED-TTL:P3D
REFRESH-INTERVAL:P3D
CALSCALE:GREGORIAN
BEGIN:VEVENT
DTSTART:20190621T003000Z
DTEND:20190621T020000Z
X-MICROSOFT-CDO-ALLDAYEVENT:FALSE
SUMMARY:Thursdays Together At The Forum
DESCRIPTION:Do you like to meet new people\, get referrals and grow your business? Enjoy a free drink on us while you mingle and make connections at Thursdays Together Networking at The Forum! Ticket includes structured round table networking where we help you ask the right questions and dinner. See you there!
X-ALT-DESC;FMTTYPE=text/html:Do you like to meet new people\, get referrals and grow your business? Enjoy a free drink on us while you mingle and make connections at Thursdays Together Networking at The Forum! Ticket includes structured round table networking where we help you ask the right questions and dinner. See you there!
LOCATION:The Forum 2301 S Stearman Dr\, Chandler\, AZ 85286
UID:e.1561.36731
SEQUENCE:3
DTSTAMP:20260423T003735Z
URL:https://business.chandlerchamber.com/events/details/thursdays-together-at-the-forum-36731
END:VEVENT

END:VCALENDAR
