BEGIN:VCALENDAR
VERSION:2.0
PRODID:-//ChamberMaster//Event Calendar 2.0//EN
METHOD:PUBLISH
X-PUBLISHED-TTL:P3D
REFRESH-INTERVAL:P3D
CALSCALE:GREGORIAN
BEGIN:VEVENT
DTSTART:20190312T170000Z
DTEND:20190312T180000Z
X-MICROSOFT-CDO-ALLDAYEVENT:FALSE
SUMMARY:Time Travelers
DESCRIPTION:See the 100-year-old McCroskey House\, the Plant a seed\, make a mini scarecrow\, test your speed on the sack race course\, feel some cotton bolls straight off the plant\, and more. Each month includes four new hands-on activities set up throughout the Ranch. Programs in this series promote developmental skills\, let youth explore historical methods and tools\, and include a take-home item. Appropriate for early childhood participants and homeschool families. March 12\, 2019 All events 10-11 a.m. | Free to attend *Location of March 12\, 2019 Time Travelers at the Chandler Museum 300 S. Chandler Village Dr. Chandler\, AZ 85226 (480) 782-2717
X-ALT-DESC;FMTTYPE=text/html:See the 100-year-old McCroskey House\, the Plant a seed\, make a mini scarecrow\, test your speed on the sack race course\, feel some cotton bolls straight off the plant\, and more. Each month includes four new hands-on activities set up throughout the Ranch. Programs in this series promote developmental skills\, let youth explore historical methods and tools\, and include a take-home item. Appropriate for early childhood participants and homeschool families. March 12\, 2019 All events 10-11 a.m. | Free to attend *Location of March 12\, 2019 Time Travelers at the Chandler Museum 300 S. Chandler Village Dr. Chandler\, AZ 85226 (480) 782-2717
LOCATION:300 S. Chandler Village Dr. Chandler\, AZ 85226
UID:e.1561.36307
SEQUENCE:3
DTSTAMP:20260423T045224Z
URL:https://business.chandlerchamber.com/events/details/time-travelers-36307
END:VEVENT

END:VCALENDAR
