BEGIN:VCALENDAR
VERSION:2.0
PRODID:-//ChamberMaster//Event Calendar 2.0//EN
METHOD:PUBLISH
X-PUBLISHED-TTL:P3D
REFRESH-INTERVAL:P3D
CALSCALE:GREGORIAN
BEGIN:VEVENT
DTSTART:20190409T170000Z
DTEND:20190409T180000Z
X-MICROSOFT-CDO-ALLDAYEVENT:FALSE
SUMMARY:Time Travelers at Tumbleweed Ranch
DESCRIPTION:Dive in to historical activities at Tumbleweed Ranch. Great for preschoolers and Home schooled groups.
X-ALT-DESC;FMTTYPE=text/html:Dive in to historical activities at Tumbleweed Ranch. Great for preschoolers and Home schooled groups.
LOCATION:Tumbleweed Ranch: 2250 S. McQueen Rd.
UID:e.1561.36404
SEQUENCE:3
DTSTAMP:20260423T045606Z
URL:https://business.chandlerchamber.com/events/details/time-travelers-at-tumbleweed-ranch-36404
END:VEVENT

END:VCALENDAR
