BEGIN:VCALENDAR
VERSION:2.0
PRODID:-//ChamberMaster//Event Calendar 2.0//EN
METHOD:PUBLISH
X-PUBLISHED-TTL:P3D
REFRESH-INTERVAL:P3D
CALSCALE:GREGORIAN
BEGIN:VEVENT
DTSTART:20180828T140000Z
DTEND:20180828T150000Z
X-MICROSOFT-CDO-ALLDAYEVENT:FALSE
SUMMARY:Toastmasters Chandler Chamber
DESCRIPTION:The Chandler Chamber of Commerce is excited to announce a demonstration meeting will be held for the Chandler Chamber Toastmasters Club on Tuesday\, August 28\, at 7 am at the Chamber office located at 25 S Arizona Place\, #201\, Chandler\, Arizona 85225. \n\nToastmasters International is a nonprofit organization designed to help individuals become better communicators through leadership training and public speaking. This opportunity is available to Chamber members and the public.\n\n \n\nOn August 28th\, attendees will see how a typical Toastmasters meeting is run\, will learn about the benefits and value of being a Toastmasters member\, discuss the charter process\, and have the opportunity to submit their applications for membership. Meetings will be held every 1st\, 3rd\, and 4th Tuesday of the month at 7 am.\n\n\n\nAttendees will learn to:\n\nCombat the fear of public speaking\n\nBuild confidence\n\nSharpen leadership abilities\n\nImprove improvisation\n\nExpand one's network\n\nNothing will improve your presentation skills more than practice\, practice\, practice. Engaging in public speaking opportunities whenever possible gives people an increased command of their delivery impact. Joining a Toastmasters Club is an invaluable opportunity to practice public speaking skills regularly in a safe\, supportive environment.\n\n\n\nFor more information contact Bridgett McGowen-Hawkins at bridgett@bridgettmcgowenhawkins.com\, or call 202-630-1218.
X-ALT-DESC;FMTTYPE=text/html:<span style="color:black\;"><span style="font-family:arial\,sans-serif\;"><span style="font-size:10.0pt\;">The Chandler Chamber of Commerce is excited to announce a demonstration meeting will be held for the Chandler Chamber Toastmasters Club on Tuesday\, August 28\, at 7 am at the Chamber office located at 25 S Arizona Place\, #201\, Chandler\, Arizona 85225. </span></span></span><br />\n<span style="color:black\;"><span style="font-family:arial\,sans-serif\;"><span style="font-size:10.0pt\;">Toastmasters International is a nonprofit organization designed to help individuals become better communicators through leadership training and public speaking. This opportunity is available to Chamber members and the public.</span></span></span><br />\n&nbsp\;<br />\n<span style="color:black\;"><span style="font-family:arial\,sans-serif\;"><span style="font-size:10.0pt\;">On August 28th\, attendees will see how a typical Toastmasters meeting is run\, will learn about the benefits and value of being a Toastmasters member\, discuss the charter process\, and have the opportunity to submit their applications for membership. Meetings will be held every 1st\, 3rd\, and 4th Tuesday of the month at 7 am.<br />\n<br />\n<strong>Attendees will learn to:</strong><br />\nCombat the fear of public speaking<br />\nBuild confidence<br />\nSharpen leadership abilities<br />\nImprove improvisation<br />\nExpand one&#39\;s network</span></span></span><br />\n<span style="color:black\;"><span style="font-family:arial\,sans-serif\;"><span style="font-size:10.0pt\;">Nothing will improve your presentation skills more than practice\, practice\, practice. Engaging in public speaking opportunities whenever possible gives people an increased command of their delivery impact. Joining a Toastmasters Club is an invaluable opportunity to practice public speaking skills regularly in a safe\, supportive environment.<br />\n<br />\nFor more information contact Bridgett McGowen-Hawkins at <a href="mailto:bridgett@bridgettmcgowenhawkings.com" linktype="2" shape="rect" target="_blank">bridgett@bridgettmcgowenhawkins.com</a>\,&nbsp\;or call&nbsp\;202-630-1218.</span></span></span>
LOCATION:Chandler Chamber 25 S Arizona Place\, #201 Chandler\, AZ 85225
UID:e.1561.34147
SEQUENCE:3
DTSTAMP:20260423T135549Z
URL:https://business.chandlerchamber.com/events/details/toastmasters-chandler-chamber-34147
END:VEVENT

END:VCALENDAR
