BEGIN:VCALENDAR
VERSION:2.0
PRODID:-//ChamberMaster//Event Calendar 2.0//EN
METHOD:PUBLISH
X-PUBLISHED-TTL:P3D
REFRESH-INTERVAL:P3D
CALSCALE:GREGORIAN
BEGIN:VEVENT
DTSTART:20180523T220000Z
DTEND:20180524T000000Z
X-MICROSOFT-CDO-ALLDAYEVENT:FALSE
SUMMARY:Top 10 Legal Mistakes That Can Destroy a Business
DESCRIPTION:Legal issues are often put on the back burner. Failing to do some basic legal planning can result in costly mistakes\, impaired growth and even the untimely collapse of the company. We cover: protecting corporate shield and personal assets\, managing key employee issues\, how to raise capital legally\, reducing the risk of litigation\, and much more.
X-ALT-DESC;FMTTYPE=text/html:Legal issues are often put on the back burner. Failing to do some basic legal planning can result in costly mistakes\, impaired growth and even the untimely collapse of the company. We cover: protecting corporate shield and personal assets\, managing key employee issues\, how to raise capital legally\, reducing the risk of litigation\, and much more.
LOCATION:Mesa Launch Point 245 W. 2nd Street Mesa\, AZ 85201
UID:e.1561.33667
SEQUENCE:3
DTSTAMP:20260423T181603Z
URL:https://business.chandlerchamber.com/events/details/top-10-legal-mistakes-that-can-destroy-a-business-05-23-2018-33667
END:VEVENT

END:VCALENDAR
