BEGIN:VCALENDAR
VERSION:2.0
PRODID:-//ChamberMaster//Event Calendar 2.0//EN
METHOD:PUBLISH
X-PUBLISHED-TTL:P3D
REFRESH-INTERVAL:P3D
CALSCALE:GREGORIAN
BEGIN:VEVENT
DTSTART:20200320T010000Z
DTEND:20200320T030000Z
X-MICROSOFT-CDO-ALLDAYEVENT:FALSE
SUMMARY:"Toxic" Parenting Behaviors
DESCRIPTION:"Toxic Parenting" can be described not as one-off incidents\, but rather scenarios of repetitious manipulation\, guilt\, fear\, abuse\, and/or unhealthy boundaries. How can parenting practices and behaviors impact a child's development and sense of self? What is considered "toxic"? Join this discussion that addresses these and other questions around the complexities of parenting.
X-ALT-DESC;FMTTYPE=text/html:&quot\;Toxic Parenting&quot\; can be described not as one-off incidents\, but rather scenarios of repetitious manipulation\, guilt\, fear\, abuse\, and/or unhealthy boundaries. How can parenting practices and behaviors impact a child&#39\;s development and sense of self? What is considered &quot\;toxic&quot\;? Join this discussion that addresses these and other questions around the complexities of parenting.
LOCATION:Rio Salado College 2323 West 14th Street\, Tempe\, AZ 85281
UID:e.1561.38896
SEQUENCE:3
DTSTAMP:20260424T163358Z
URL:https://business.chandlerchamber.com/events/details/toxic-parenting-behaviors-38896
END:VEVENT

END:VCALENDAR
